BEGIN:VCALENDAR
VERSION:2.0
PRODID:icalendar-ruby
CALSCALE:GREGORIAN
METHOD:PUBLISH
BEGIN:VEVENT
DTSTAMP:20260421T175506Z
UID:c1822c9b-6829-4597-865b-0f5ffd8cb7ea
DTSTART:20260428T123000
DTEND:20260428T133000
LOCATION:Large Seminar Room 8G U1 155
SUMMARY:CSD Noon Seminar 
END:VEVENT
END:VCALENDAR
